BEGIN:VCALENDAR
VERSION:2.0
PRODID:-//Tukios.com/
BEGIN:VEVENT
UID:6c0e6d75-1ba8-42a3-8585-21e0afb6480e@www.carpentermemorial.com
DTSTAMP:20260424T205940Z
DTSTART:20260430T180000Z
DTEND:20260430T200000Z
SUMMARY:Visitation
DESCRIPTION:
URL:https://www.carpentermemorial.com/obituaries/kirk-bodeman
LOCATION: 1616 W B St  North Platte NE 69101
GEO:41.13231;-100.7833681
END:VEVENT
END:VCALENDAR