BEGIN:VCALENDAR
VERSION:2.0
PRODID:-//Tukios.com/
BEGIN:VEVENT
UID:ea6e8c60-c684-43aa-96cc-eea1981ea2c6@www.carpentermemorial.com
DTSTAMP:20260424T210105Z
DTSTART:20260430T203000Z
DTEND:20260430T213000Z
SUMMARY:Burial
DESCRIPTION:
URL:https://www.carpentermemorial.com/obituaries/kirk-bodeman
LOCATION: 605 West Rodeo Road Avenue  North Platte NE 69101
GEO:41.1480774;-100.7696448
END:VEVENT
END:VCALENDAR