BEGIN:VCALENDAR
VERSION:2.0
PRODID:-//Tukios.com/
BEGIN:VEVENT
UID:ba0c105e-102f-4f08-8ed7-1576ea6c367e@www.carpentermemorial.com
DTSTAMP:20260425T021823Z
DTSTART:20260429T160000Z
DTEND:20260429T170000Z
SUMMARY:Memorial Service
DESCRIPTION:The family encourages attendees to dress casual.
URL:https://www.carpentermemorial.com/obituaries/lynn-sedlacek
LOCATION: 1400 East E Street  North Platte NE 69101
GEO:41.1296546;-100.7482659
END:VEVENT
END:VCALENDAR